{"text_format":"1","workbook":"xlsx","n_sheets":3,"sheets":["Main page","Meals","Amounts"],"not_rendered":{"charts":0,"images":0,"macros":0,"external_links":0,"defined_names":0,"comments":0,"pivot_tables":0},"unopened":[],"bounds":{"document_bytes":16777216,"sheet_cells":100000,"rows_first":2000,"rows_last":500,"rows_between":2000,"halvings":0,"cell_chars":16384,"cell_head_chars":4096},"cells_cut":0,"cells_raw":0,"read":"whole","date_system":"1900"}

{"sheet":"Main page","index":0,"n_rows":24,"n_cols":17,"rows_kept":24,"cut":false,"hidden":false,"merged":[[3,10,3,16],[1,1,1,2],[2,1,2,2],[3,4,3,6],[3,8,4,8],[3,9,4,9]]}
[]
["Country"]
["3 letter abb."]
[null,"Pavillon                 app. 12 m2",null,null,"Freq",null,null,null,"Swinging Denmark (\"1\" if entering)","Swinging Denmark T-shirt size","Accomodation"]
["Funtion","surname","first name","FAI #",1,2,3,"email:",null,null,"From date","To date","No. of nights","Camping","No. Of hotel rooms","Person In each room","Self service Cabins"]
["TM senior"]
["Pilot senior"]
["Pilot senior"]
["Pilot senior"]
["Pilot senior"]
["TM junior"]
["Pilot junior"]
["Pilot junior"]
["Pilot junior"]
["Pilot junior"]
["Helper"]
["Helper"]
["Helper"]
["Helper"]
["Official Supp."]
["Official Supp."]
["Official Supp."]
["Official Supp."]
[null,null,null,null,null,null,null,null,{"$f":"SUM(I6:I23)","v":0},null,null,null,{"$f":"SUM(M6:M23)","v":0},0,0,0,0]

{"sheet":"Meals","index":1,"n_rows":26,"n_cols":31,"rows_kept":26,"cut":false,"hidden":false,"merged":[[25,10,25,11],[1,1,1,2],[2,1,2,2],[3,3,3,4],[3,7,3,30],[4,19,4,21],[4,22,4,24],[4,25,4,27],[4,28,4,30],[4,3,4,4],[4,5,4,6],[4,7,4,9],[4,10,4,12],[4,13,4,15],[4,16,4,18]]}
[]
["Country",{"$f":"+'Main page'!B2","v":0}]
["3 letter abb.",{"$f":"+'Main page'!B3","v":0}]
[null,null,null,"Hotel guests",null,null,null,"If you order single meal write \"1\" for the apropriate meal on the apropriate day (B = Breakfast, L = Lunch, D = dinner)"]
[null,null,null,"Meals excl. Breakf.",null,"Meals incl. Breakf.",null,"Saturday 20.07",null,null,"Sunday 21.07",null,null,"Monday 22.07",null,null,"Tuesday 23.07",null,null,"Wednesday 24.07",null,null,"Thursday 25.07",null,null,"Friday 26.07",null,null,"Saturday 27.07"]
[{"$f":"+'Main page'!A5","v":"Funtion"},{"$f":"+'Main page'!B5","v":"surname"},{"$f":"+'Main page'!C5","v":"first name"},"Complet 6 22.07 - 27.07","Complet 8 20.07 - 27.07","Complet 6 22.07 - 27.07","Complet 8 20.07 - 27.07","B","L","D","B","L","D","B","L","D","B","L","D","B","L","D","B","L","D","B","L","D","B","L","Banquet"]
[{"$f":"+'Main page'!A6","v":"TM senior"},{"$f":"+'Main page'!B6","v":0},{"$f":"+'Main page'!C6","v":0}]
[{"$f":"+'Main page'!A7","v":"Pilot senior"},{"$f":"+'Main page'!B7","v":0},{"$f":"+'Main page'!C7","v":0}]
[{"$f":"+'Main page'!A8","v":"Pilot senior"},{"$f":"+'Main page'!B8","v":0},{"$f":"+'Main page'!C8","v":0}]
[{"$f":"+'Main page'!A8","v":"Pilot senior"},{"$f":"+'Main page'!B8","v":0},{"$f":"+'Main page'!C8","v":0}]
[{"$f":"+'Main page'!A10","v":"Pilot senior"},{"$f":"+'Main page'!B10","v":0},{"$f":"+'Main page'!C10","v":0}]
[{"$f":"+'Main page'!A11","v":"TM junior"},{"$f":"+'Main page'!B11","v":0},{"$f":"+'Main page'!C11","v":0}]
[{"$f":"+'Main page'!A12","v":"Pilot junior"},{"$f":"+'Main page'!B12","v":0},{"$f":"+'Main page'!C12","v":0}]
[{"$f":"+'Main page'!A13","v":"Pilot junior"},{"$f":"+'Main page'!B13","v":0},{"$f":"+'Main page'!C13","v":0}]
[{"$f":"+'Main page'!A14","v":"Pilot junior"},{"$f":"+'Main page'!B14","v":0},{"$f":"+'Main page'!C14","v":0}]
[{"$f":"+'Main page'!A15","v":"Pilot junior"},{"$f":"+'Main page'!B15","v":0},{"$f":"+'Main page'!C15","v":0}]
[{"$f":"+'Main page'!A16","v":"Helper"},{"$f":"+'Main page'!B16","v":0},{"$f":"+'Main page'!C16","v":0}]
[{"$f":"+'Main page'!A17","v":"Helper"},{"$f":"+'Main page'!B17","v":0},{"$f":"+'Main page'!C17","v":0}]
[{"$f":"+'Main page'!A18","v":"Helper"},{"$f":"+'Main page'!B18","v":0},{"$f":"+'Main page'!C18","v":0}]
[{"$f":"+'Main page'!A19","v":"Helper"},{"$f":"+'Main page'!B19","v":0},{"$f":"+'Main page'!C19","v":0}]
[{"$f":"+'Main page'!A20","v":"Official Supp."},{"$f":"+'Main page'!B20","v":0},{"$f":"+'Main page'!C20","v":0}]
[{"$f":"+'Main page'!A21","v":"Official Supp."},{"$f":"+'Main page'!B21","v":0},{"$f":"+'Main page'!C21","v":0}]
[{"$f":"+'Main page'!A22","v":"Official Supp."},{"$f":"+'Main page'!B22","v":0},{"$f":"+'Main page'!C22","v":0}]
[{"$f":"+'Main page'!A23","v":"Official Supp."},{"$f":"+'Main page'!B23","v":0},{"$f":"+'Main page'!C23","v":0}]
[null,null,"Sub totals",null,null,null,null,{"$f":"SUM(H7:H24)","v":0},0,0,0,0,0,0,0,0,0,0,0,0,0,0,0,0,0,0,0,0,0,0,0]
[null,null,"Totals",{"$f":"SUM(D7:D24)","v":0},{"$f":"SUM(E7:E24)","v":0},{"$f":"SUM(F7:F24)","v":0},{"$f":"SUM(G7:G24)","v":0},{"$f":"+H25+K25+N25+Q25+T25+W25+Z25+AC25","v":0},{"$f":"+I25+L25+O25+R25+U25+X25+AA25+AD25","v":0},{"$f":"+J25+M25+P25+S25+V25+Y25+AB25","v":0},"Banquet",null,{"$f":"+AE25","v":0}]

{"sheet":"Amounts","index":2,"n_rows":25,"n_cols":5,"rows_kept":25,"cut":false,"hidden":false,"merged":[[0,1,0,2],[1,1,1,2],[9,0,9,1],[16,0,16,1],[17,0,17,1],[3,0,3,1],[4,0,4,1],[5,0,5,1],[6,0,6,1],[7,0,7,1],[8,0,8,1],[10,0,10,1],[11,0,11,1],[12,0,12,1],[13,0,13,1],[21,0,21,1],[22,0,22,1],[23,0,23,1],[18,0,18,1],[19,0,19,1],[20,0,20,1]]}
["Country",{"$f":"+'Main page'!B2","v":0}]
["3 letter abb.",{"$f":"+'Main page'!B3","v":0}]
[null,null,"Fill in manually","EUR","Total EUR"]
["No. Of senior TM",null,null,300,{"$f":"+D4*C4","v":0}]
["No. Of Junior TM",null,null,150,{"$f":"+D5*C5","v":0}]
["No. Of senior W CH",null,null,300,0]
["No. Of Junior W CH",null,null,150,0]
["No. Of help / off. Supp",null,null,50,0]
["No. Of senior Swinging DK",null,null,59,0]
["No. Of Junior Swinging DK",null,null,29,0]
["No. Of  nigths in single rooms",null,null,66,0]
["No. nigths in 2 person rooms",null,null,{"$f":"2*44","v":88},0]
["No. nigths in 3 person rooms",null,null,{"$f":"3*37","v":111},0]
["No. nigths in 4 person rooms",null,null,{"$f":"4*34","v":136},0]
["No. Of nights in self service cottages",null,null,19.07,0]
["No. Of nights on campingsite",null,null,7,0]
["Total Complet 6 excl. Breakfast",null,{"$f":"+Meals!D26","v":0},110,0]
["Total Complet 6 incl. Breakfast",null,{"$f":"+Meals!F26","v":0},142,0]
["Total Complet 8 excl.breakfast",null,{"$f":"+Meals!E26","v":0},146,0]
["Total Complet 8 incl. Breakfast",null,{"$f":"+Meals!G26","v":0},190,0]
["Total breakfast",null,{"$f":"+Meals!H26","v":0},7,0]
["Total lunch",null,{"$f":"+Meals!I26","v":0},11.5,0]
["Total dinner",null,{"$f":"+Meals!J26","v":0},13.5,0]
["Total banquet",null,{"$f":"+Meals!M26","v":0},50,0]
[null,null,null,null,{"$f":"SUM(E4:E24)","v":0}]